BEGIN:VCALENDAR
VERSION:2.0
PRODID:-//Christusbund Bodelshausen - ECPv5.16.4.1//NONSGML v1.0//EN
CALSCALE:GREGORIAN
METHOD:PUBLISH
X-WR-CALNAME:Christusbund Bodelshausen
X-ORIGINAL-URL:https://christusbund-bodelshausen.de
X-WR-CALDESC:Veranstaltungen für Christusbund Bodelshausen
BEGIN:VTIMEZONE
TZID:Europe/Berlin
BEGIN:DAYLIGHT
TZOFFSETFROM:+0100
TZOFFSETTO:+0200
TZNAME:CEST
DTSTART:20230326T010000
END:DAYLIGHT
BEGIN:STANDARD
TZOFFSETFROM:+0200
TZOFFSETTO:+0100
TZNAME:CET
DTSTART:20231029T010000
END:STANDARD
END:VTIMEZONE
BEGIN:VEVENT
DTSTART;TZID=Europe/Berlin:20230924T110000
DTEND;TZID=Europe/Berlin:20230924T120000
DTSTAMP:20260424T031842
CREATED:20230907T172155Z
LAST-MODIFIED:20230907T172344Z
UID:1555-1695553200-1695556800@christusbund-bodelshausen.de
SUMMARY:Gottesdienst
DESCRIPTION:Herzliche Einladung zum Gottesdienst ! \nThema: “Der Schutz des Eigentums – du sollst nicht stehlen” \nText:  2. Mose 20\, 15
URL:https://christusbund-bodelshausen.de/termine/gottesdienst-180/
LOCATION:Christusbund Bodelshausen (ev. Gemeindehaus)\, Lindenstaße 17\, Bodelshausen\, Baden-Württemberg\, 72411\, Deutschland
CATEGORIES:Gottesdienst
END:VEVENT
END:VCALENDAR